BEGIN:VCALENDAR
VERSION:2.0
PRODID:-//fishsonoma.org//NONSGML kigkonsult.se iCalcreator 2.30.10//
CALSCALE:GREGORIAN
METHOD:PUBLISH
UID:915dd25a-6f89-41d2-9ecb-2fbf53da7e49
X-WR-CALDESC:The Food Pantry is open at 1:30 p.m. to pick up nutritious gro
 ceries. We include enough for 3-5 days of meals for you and your family. F
 ood is available to anyone who calls in that day before noon at 707-996-01
 11.
X-WR-RELCALID:400b1afbb175b895c256e22feb60b312
X-WR-TIMEZONE:America/Los_Angeles
BEGIN:VTIMEZONE
TZID:America/Los_Angeles
BEGIN:STANDARD
TZNAME:PST
DTSTART:20261101T020000
TZOFFSETFROM:-0700
TZOFFSETTO:-0800
RDATE:20271107T020000
END:STANDARD
BEGIN:DAYLIGHT
TZNAME:PDT
DTSTART:20260308T020000
TZOFFSETFROM:-0800
TZOFFSETTO:-0700
RDATE:20270314T020000
RDATE:20280312T020000
END:DAYLIGHT
END:VTIMEZONE
BEGIN:VEVENT
UID:d08e4882-31bb-4b0b-907d-f800166b1ee2
DTSTAMP:20260424T171159Z
DESCRIPTION:The Food Pantry is open at 1:30 p.m. to pick up nutritious groc
 eries. We include enough for 3-5 days of meals for you and your family. Fo
 od is available to anyone who calls in that day before noon at 707-996-011
 1.
DTSTART;TZID=America/Los_Angeles:20261210T133000
DTEND;TZID=America/Los_Angeles:20261210T143000
LOCATION:18330 Highway 12\, Sonoma\, AL 95476 US
SUMMARY:Food Pantry at FISH
END:VEVENT
END:VCALENDAR
