BEGIN:VCALENDAR
VERSION:2.0
PRODID:-//fishsonoma.org//NONSGML kigkonsult.se iCalcreator 2.30.10//
CALSCALE:GREGORIAN
METHOD:PUBLISH
UID:ccb8de2e-6f3e-40f9-83f5-a280b61f6609
X-WR-CALDESC:Drop off your donations for the Clothes Closet. All clothing m
 ust be clean and gently worn\, please.\nDuring Saturday hours\, FISH Centr
 al is open for donations only\, not for clothing selection.
X-WR-RELCALID:908f5caaf2e843e03eebddc209fa97cb
X-WR-TIMEZONE:America/Los_Angeles
BEGIN:VTIMEZONE
TZID:America/Los_Angeles
BEGIN:STANDARD
TZNAME:PST
DTSTART:20261101T020000
TZOFFSETFROM:-0700
TZOFFSETTO:-0800
RDATE:20271107T020000
END:STANDARD
BEGIN:DAYLIGHT
TZNAME:PDT
DTSTART:20260308T020000
TZOFFSETFROM:-0800
TZOFFSETTO:-0700
RDATE:20270314T020000
RDATE:20280312T020000
END:DAYLIGHT
END:VTIMEZONE
BEGIN:VEVENT
UID:23c34e2e-3dcf-4983-ab72-8d8028012643
DTSTAMP:20260424T093211Z
DESCRIPTION:Drop off your donations for the Clothes Closet. All clothing mu
 st be clean and gently worn\, please.\nDuring Saturday hours\, FISH Centra
 l is open for donations only\, not for clothing selection.
DTSTART;TZID=America/Los_Angeles:20261114T100000
DTEND;TZID=America/Los_Angeles:20261114T130000
LOCATION:18330 Highway 12\, Sonoma\, CA 95476 US
SUMMARY:Donation Drop Off
END:VEVENT
END:VCALENDAR
