BEGIN:VCALENDAR
VERSION:2.0
PRODID:-//fishsonoma.org//NONSGML kigkonsult.se iCalcreator 2.30.10//
CALSCALE:GREGORIAN
METHOD:PUBLISH
UID:1136a9de-6695-4d0a-b073-0044774c7b82
X-WR-CALDESC:The Food Pantry is open at 1:30 p.m. to pick up nutritious gro
 ceries. We include enough for 3-5 days of meals for you and your family. F
 ood is available to anyone who calls in that day before noon at 707-996-01
 11.
X-WR-RELCALID:7921732b869995a667df61ff968c0e44
X-WR-TIMEZONE:America/Los_Angeles
BEGIN:VTIMEZONE
TZID:America/Los_Angeles
BEGIN:STANDARD
TZNAME:PST
DTSTART:20251102T020000
TZOFFSETFROM:-0700
TZOFFSETTO:-0800
RDATE:20261101T020000
RDATE:20271107T020000
END:STANDARD
BEGIN:DAYLIGHT
TZNAME:PDT
DTSTART:20260308T020000
TZOFFSETFROM:-0800
TZOFFSETTO:-0700
RDATE:20270314T020000
RDATE:20280312T020000
END:DAYLIGHT
END:VTIMEZONE
BEGIN:VEVENT
UID:a6a03e43-1462-4b6a-bfb4-0473ca090e79
DTSTAMP:20260422T095227Z
DESCRIPTION:The Food Pantry is open at 1:30 p.m. to pick up nutritious groc
 eries. We include enough for 3-5 days of meals for you and your family. Fo
 od is available to anyone who calls in that day before noon at 707-996-011
 1.
DTSTART;TZID=America/Los_Angeles:20261013T133000
DTEND;TZID=America/Los_Angeles:20261013T143000
LOCATION:18330 Highway 12\, Sonoma\, AL 95476 US
SUMMARY:Food Pantry at FISH
END:VEVENT
END:VCALENDAR
