BEGIN:VCALENDAR
VERSION:2.0
PRODID:-//fishsonoma.org//NONSGML kigkonsult.se iCalcreator 2.30.10//
CALSCALE:GREGORIAN
METHOD:PUBLISH
UID:5d7c1787-7574-4f0d-9c92-581e4cc12c8a
X-WR-CALDESC:Drop off your donations for the Clothes Closet. All clothing m
 ust be clean and gently worn\, please.\nDuring Saturday hours\, FISH Centr
 al is open for donations only\, not for clothing selection.
X-WR-RELCALID:bafbe0dff7142f8ec18a3136ea832719
X-WR-TIMEZONE:America/Los_Angeles
BEGIN:VTIMEZONE
TZID:America/Los_Angeles
BEGIN:STANDARD
TZNAME:PST
DTSTART:20251102T020000
TZOFFSETFROM:-0700
TZOFFSETTO:-0800
RDATE:20261101T020000
RDATE:20271107T020000
END:STANDARD
BEGIN:DAYLIGHT
TZNAME:PDT
DTSTART:20260308T020000
TZOFFSETFROM:-0800
TZOFFSETTO:-0700
RDATE:20270314T020000
RDATE:20280312T020000
END:DAYLIGHT
END:VTIMEZONE
BEGIN:VEVENT
UID:8962dd53-0b21-4825-9be3-0447d31ed71d
DTSTAMP:20260422T045334Z
DESCRIPTION:Drop off your donations for the Clothes Closet. All clothing mu
 st be clean and gently worn\, please.\nDuring Saturday hours\, FISH Centra
 l is open for donations only\, not for clothing selection.
DTSTART;TZID=America/Los_Angeles:20260926T100000
DTEND;TZID=America/Los_Angeles:20260926T130000
LOCATION:18330 Highway 12\, Sonoma\, CA 95476 US
SUMMARY:Donation Drop Off
END:VEVENT
END:VCALENDAR
