BEGIN:VCALENDAR
VERSION:2.0
PRODID:-//fishsonoma.org//NONSGML kigkonsult.se iCalcreator 2.30.10//
CALSCALE:GREGORIAN
METHOD:PUBLISH
UID:77bc7e1f-50ef-42be-8d55-e3d124d34273
X-WR-CALDESC:Drop off your donations for the Clothes Closet. All clothing m
 ust be clean and gently worn\, please.\nDuring Saturday hours\, FISH Centr
 al is open for donations only\, not for clothing selection.
X-WR-RELCALID:2b20092ca7dc86b22ec8923ee6083090
X-WR-TIMEZONE:America/Los_Angeles
BEGIN:VTIMEZONE
TZID:America/Los_Angeles
BEGIN:STANDARD
TZNAME:PST
DTSTART:20251102T020000
TZOFFSETFROM:-0700
TZOFFSETTO:-0800
RDATE:20261101T020000
RDATE:20271107T020000
END:STANDARD
BEGIN:DAYLIGHT
TZNAME:PDT
DTSTART:20260308T020000
TZOFFSETFROM:-0800
TZOFFSETTO:-0700
RDATE:20270314T020000
RDATE:20280312T020000
END:DAYLIGHT
END:VTIMEZONE
BEGIN:VEVENT
UID:b865713d-35f4-4618-8d98-85606a2cb43a
DTSTAMP:20260422T013627Z
DESCRIPTION:Drop off your donations for the Clothes Closet. All clothing mu
 st be clean and gently worn\, please.\nDuring Saturday hours\, FISH Centra
 l is open for donations only\, not for clothing selection.
DTSTART;TZID=America/Los_Angeles:20260912T100000
DTEND;TZID=America/Los_Angeles:20260912T130000
LOCATION:18330 Highway 12\, Sonoma\, CA 95476 US
SUMMARY:Donation Drop Off
END:VEVENT
END:VCALENDAR
