BEGIN:VCALENDAR
VERSION:2.0
PRODID:-//fishsonoma.org//NONSGML kigkonsult.se iCalcreator 2.30.10//
CALSCALE:GREGORIAN
METHOD:PUBLISH
UID:b09f0661-01ca-4440-9bc5-42a95e6b1214
X-WR-CALDESC:Come shop at the Clothes Closet for clothing for all ages\, fr
 ee of charge. No appointment needed.\nOn Wednesdays\, the Clothes Closet i
 s open for shopping but not for donations. Please see our calendar for don
 ation times on Tuesdays\, Fridays\, and Saturdays.\n
X-WR-RELCALID:b8c9195872ca0521f9a833dbd36b8257
X-WR-TIMEZONE:America/Los_Angeles
BEGIN:VTIMEZONE
TZID:America/Los_Angeles
BEGIN:STANDARD
TZNAME:PST
DTSTART:20251102T020000
TZOFFSETFROM:-0700
TZOFFSETTO:-0800
RDATE:20261101T020000
END:STANDARD
BEGIN:DAYLIGHT
TZNAME:PDT
DTSTART:20250309T020000
TZOFFSETFROM:-0800
TZOFFSETTO:-0700
RDATE:20260308T020000
RDATE:20270314T020000
END:DAYLIGHT
END:VTIMEZONE
BEGIN:VEVENT
UID:185354be-ec0f-43fd-a5a4-d9353e8fcaac
DTSTAMP:20260421T190406Z
DESCRIPTION:Come shop at the Clothes Closet for clothing for all ages\, fre
 e of charge. No appointment needed.\nOn Wednesdays\, the Clothes Closet is
  open for shopping but not for donations. Please see our calendar for dona
 tion times on Tuesdays\, Fridays\, and Saturdays.\n
DTSTART;TZID=America/Los_Angeles:20251224T130000
DTEND;TZID=America/Los_Angeles:20251224T150000
LOCATION:18330 Highway 12\, Sonoma\, CA 95476 US
SUMMARY:FISH Clothing Closet CLOSED for deep cleaning through January 5
END:VEVENT
END:VCALENDAR
