BEGIN:VCALENDAR
VERSION:2.0
PRODID:-//fishsonoma.org//NONSGML kigkonsult.se iCalcreator 2.30.10//
CALSCALE:GREGORIAN
METHOD:PUBLISH
UID:1d52de58-976a-41f7-967e-52c61a5f85dc
X-WR-CALDESC:Drop off your donations for the Clothes Closet. All clothing m
 ust be clean and gently worn\, please.\nDuring Saturday hours\, FISH Centr
 al is open for donations only\, not for clothing selection.
X-WR-RELCALID:e6766b8982ffaf4f99e4414f82a282f5
X-WR-TIMEZONE:America/Los_Angeles
BEGIN:VTIMEZONE
TZID:America/Los_Angeles
BEGIN:STANDARD
TZNAME:PST
DTSTART:20251102T020000
TZOFFSETFROM:-0700
TZOFFSETTO:-0800
RDATE:20261101T020000
END:STANDARD
BEGIN:DAYLIGHT
TZNAME:PDT
DTSTART:20250309T020000
TZOFFSETFROM:-0800
TZOFFSETTO:-0700
RDATE:20260308T020000
RDATE:20270314T020000
END:DAYLIGHT
END:VTIMEZONE
BEGIN:VEVENT
UID:5550ea06-1dc8-471a-88bf-4b9365d3e05e
DTSTAMP:20260422T034536Z
DESCRIPTION:Drop off your donations for the Clothes Closet. All clothing mu
 st be clean and gently worn\, please.\nDuring Saturday hours\, FISH Centra
 l is open for donations only\, not for clothing selection.
DTSTART;TZID=America/Los_Angeles:20251129T100000
DTEND;TZID=America/Los_Angeles:20251129T130000
LOCATION:18330 Highway 12\, Sonoma\, CA 95476 US
SUMMARY:Donation Drop Off
END:VEVENT
END:VCALENDAR
