BEGIN:VCALENDAR
VERSION:2.0
PRODID:-//fishsonoma.org//NONSGML kigkonsult.se iCalcreator 2.30.10//
CALSCALE:GREGORIAN
METHOD:PUBLISH
UID:cb92a2a9-9526-43b3-b1b8-bc53bd76fab0
X-WR-CALDESC:Come shop at the Clothes Closet for clothing for all ages\, fr
 ee of charge. No appointment needed.\nDonations of clean\, gently worn clo
 thing are also accepted at this time.
X-WR-RELCALID:a529fc73b73fc1f8df32dd66fde72b47
X-WR-TIMEZONE:America/Los_Angeles
BEGIN:VTIMEZONE
TZID:America/Los_Angeles
BEGIN:STANDARD
TZNAME:PST
DTSTART:20251102T020000
TZOFFSETFROM:-0700
TZOFFSETTO:-0800
RDATE:20261101T020000
END:STANDARD
BEGIN:DAYLIGHT
TZNAME:PDT
DTSTART:20250309T020000
TZOFFSETFROM:-0800
TZOFFSETTO:-0700
RDATE:20260308T020000
RDATE:20270314T020000
END:DAYLIGHT
END:VTIMEZONE
BEGIN:VEVENT
UID:27d82d8e-e144-4bf8-b05a-455a56d43377
DTSTAMP:20260422T052129Z
DESCRIPTION:Come shop at the Clothes Closet for clothing for all ages\, fre
 e of charge. No appointment needed.\nDonations of clean\, gently worn clot
 hing are also accepted at this time.
DTSTART;TZID=America/Los_Angeles:20251118T100000
DTEND;TZID=America/Los_Angeles:20251118T120000
LOCATION:18330 Highway 12\, Sonoma\, CA 95476 US
SUMMARY:FISH Clothing Closet Open
END:VEVENT
END:VCALENDAR
