BEGIN:VCALENDAR
VERSION:2.0
PRODID:-//fishsonoma.org//NONSGML kigkonsult.se iCalcreator 2.30.10//
CALSCALE:GREGORIAN
METHOD:PUBLISH
UID:9d567b4e-c18a-4727-8ef5-e0a9e3cdc603
X-WR-CALDESC:Come shop at the Clothes Closet for clothing for all ages\, fr
 ee of charge. No appointment needed.\nOn Wednesdays\, the Clothes Closet i
 s open for shopping but not for donations. Please see our calendar for don
 ation times on Tuesdays\, Fridays\, and Saturdays.\n
X-WR-RELCALID:f676a5b89a3b3f58d485997a7b2575c2
X-WR-TIMEZONE:America/Los_Angeles
BEGIN:VTIMEZONE
TZID:America/Los_Angeles
BEGIN:STANDARD
TZNAME:PST
DTSTART:20241103T020000
TZOFFSETFROM:-0700
TZOFFSETTO:-0800
RDATE:20251102T020000
RDATE:20261101T020000
END:STANDARD
BEGIN:DAYLIGHT
TZNAME:PDT
DTSTART:20250309T020000
TZOFFSETFROM:-0800
TZOFFSETTO:-0700
RDATE:20260308T020000
END:DAYLIGHT
END:VTIMEZONE
BEGIN:VEVENT
UID:d0850167-e03d-4063-a672-bc7e682dc945
DTSTAMP:20260424T195251Z
DESCRIPTION:Come shop at the Clothes Closet for clothing for all ages\, fre
 e of charge. No appointment needed.\nOn Wednesdays\, the Clothes Closet is
  open for shopping but not for donations. Please see our calendar for dona
 tion times on Tuesdays\, Fridays\, and Saturdays.\n
DTSTART;TZID=America/Los_Angeles:20250730T130000
DTEND;TZID=America/Los_Angeles:20250730T150000
LOCATION:18330 Highway 12\, Sonoma\, CA 95476 US
SUMMARY:FISH Clothing Closet Open
END:VEVENT
END:VCALENDAR
