BEGIN:VCALENDAR
VERSION:2.0
PRODID:-//fishsonoma.org//NONSGML kigkonsult.se iCalcreator 2.30.10//
CALSCALE:GREGORIAN
METHOD:PUBLISH
UID:f8889efa-74e5-4935-a3d7-bda19dbe8165
X-WR-CALDESC:Come shop at the Clothes Closet for clothing for all ages\, fr
 ee of charge. No appointment needed.\nOn Wednesdays\, the Clothes Closet i
 s open for shopping but not for donations. Please see our calendar for don
 ation times on Tuesdays\, Fridays\, and Saturdays.\n
X-WR-RELCALID:5f50a286e4536e34615d9c9585802ae5
X-WR-TIMEZONE:America/Los_Angeles
BEGIN:VTIMEZONE
TZID:America/Los_Angeles
BEGIN:STANDARD
TZNAME:PST
DTSTART:20241103T020000
TZOFFSETFROM:-0700
TZOFFSETTO:-0800
RDATE:20251102T020000
END:STANDARD
BEGIN:DAYLIGHT
TZNAME:PDT
DTSTART:20250309T020000
TZOFFSETFROM:-0800
TZOFFSETTO:-0700
RDATE:20260308T020000
END:DAYLIGHT
END:VTIMEZONE
BEGIN:VEVENT
UID:7564b03e-55ec-41ed-ad91-4bc8fa1bb6cd
DTSTAMP:20260425T153724Z
DESCRIPTION:Come shop at the Clothes Closet for clothing for all ages\, fre
 e of charge. No appointment needed.\nOn Wednesdays\, the Clothes Closet is
  open for shopping but not for donations. Please see our calendar for dona
 tion times on Tuesdays\, Fridays\, and Saturdays.\n
DTSTART;TZID=America/Los_Angeles:20250430T130000
DTEND;TZID=America/Los_Angeles:20250430T150000
LOCATION:18330 Highway 12\, Sonoma\, CA 95476 US
SUMMARY:FISH Clothing Closet Open
END:VEVENT
END:VCALENDAR
