BEGIN:VCALENDAR
VERSION:2.0
PRODID:-//fishsonoma.org//NONSGML kigkonsult.se iCalcreator 2.30.10//
CALSCALE:GREGORIAN
METHOD:PUBLISH
UID:77c3d143-8d4e-48a6-816c-13c3ccf8b528
X-WR-CALDESC:Drop off your donations for the Clothes Closet. All clothing m
 ust be clean and gently worn\, please.\nDuring Saturday hours\, FISH Centr
 al is open for donations only\, not for clothing selection.
X-WR-RELCALID:6fd7ce1714b0ff0b6293da6fa003d20d
X-WR-TIMEZONE:America/Los_Angeles
BEGIN:VTIMEZONE
TZID:America/Los_Angeles
BEGIN:STANDARD
TZNAME:PST
DTSTART:20241103T020000
TZOFFSETFROM:-0700
TZOFFSETTO:-0800
RDATE:20251102T020000
END:STANDARD
BEGIN:DAYLIGHT
TZNAME:PDT
DTSTART:20250309T020000
TZOFFSETFROM:-0800
TZOFFSETTO:-0700
RDATE:20260308T020000
END:DAYLIGHT
END:VTIMEZONE
BEGIN:VEVENT
UID:d5ccb85a-eec4-4770-89f7-adb4b249e4d5
DTSTAMP:20260425T232807Z
DESCRIPTION:Drop off your donations for the Clothes Closet. All clothing mu
 st be clean and gently worn\, please.\nDuring Saturday hours\, FISH Centra
 l is open for donations only\, not for clothing selection.
DTSTART;TZID=America/Los_Angeles:20250329T100000
DTEND;TZID=America/Los_Angeles:20250329T130000
LOCATION:18330 Highway 12\, Sonoma\, CA 95476 US
SUMMARY:Donation Drop Off
END:VEVENT
END:VCALENDAR
