BEGIN:VCALENDAR
VERSION:2.0
PRODID:-//fishsonoma.org//NONSGML kigkonsult.se iCalcreator 2.30.10//
CALSCALE:GREGORIAN
METHOD:PUBLISH
UID:8aa79131-e8be-42b8-a093-a3280dc4b45a
X-WR-CALDESC:Come shop at the Clothes Closet for clothing for all ages\, fr
 ee of charge. No appointment needed.\nOn Wednesdays\, the Clothes Closet i
 s open for shopping but not for donations. Please see our calendar for don
 ation times on Tuesdays\, Fridays\, and Saturdays.\n
X-WR-RELCALID:c9914027b8b2082aeead87f08acfd719
X-WR-TIMEZONE:America/Los_Angeles
BEGIN:VTIMEZONE
TZID:America/Los_Angeles
BEGIN:STANDARD
TZNAME:PST
DTSTART:20241103T020000
TZOFFSETFROM:-0700
TZOFFSETTO:-0800
RDATE:20251102T020000
END:STANDARD
BEGIN:DAYLIGHT
TZNAME:PDT
DTSTART:20240310T020000
TZOFFSETFROM:-0800
TZOFFSETTO:-0700
RDATE:20250309T020000
RDATE:20260308T020000
END:DAYLIGHT
END:VTIMEZONE
BEGIN:VEVENT
UID:45f5473d-5881-4f99-9989-41176d349d5a
DTSTAMP:20260424T195434Z
DESCRIPTION:Come shop at the Clothes Closet for clothing for all ages\, fre
 e of charge. No appointment needed.\nOn Wednesdays\, the Clothes Closet is
  open for shopping but not for donations. Please see our calendar for dona
 tion times on Tuesdays\, Fridays\, and Saturdays.\n
DTSTART;TZID=America/Los_Angeles:20250122T130000
DTEND;TZID=America/Los_Angeles:20250122T150000
LOCATION:18330 Highway 12\, Sonoma\, CA 95476 US
SUMMARY:FISH Clothing Closet Open
END:VEVENT
END:VCALENDAR
