BEGIN:VCALENDAR
VERSION:2.0
PRODID:-//fishsonoma.org//NONSGML kigkonsult.se iCalcreator 2.30.10//
CALSCALE:GREGORIAN
METHOD:PUBLISH
UID:4480fda4-3e9f-4b6f-8be6-a28464b61b1b
X-WR-CALDESC:The Food Pantry is open at 1:30 p.m. to pick up nutritious gro
 ceries. We include enough for 3-5 days of meals for you and your family. F
 ood is available to anyone who calls in that day before noon at 707-996-01
 11.
X-WR-RELCALID:e5115d80f21cd3cca1ed57fb51c09eaf
X-WR-TIMEZONE:America/Los_Angeles
BEGIN:VTIMEZONE
TZID:America/Los_Angeles
BEGIN:STANDARD
TZNAME:PST
DTSTART:20231105T020000
TZOFFSETFROM:-0700
TZOFFSETTO:-0800
RDATE:20241103T020000
RDATE:20251102T020000
END:STANDARD
BEGIN:DAYLIGHT
TZNAME:PDT
DTSTART:20240310T020000
TZOFFSETFROM:-0800
TZOFFSETTO:-0700
RDATE:20250309T020000
RDATE:20260308T020000
END:DAYLIGHT
END:VTIMEZONE
BEGIN:VEVENT
UID:ee809859-7e96-42d2-8e91-08707bab061e
DTSTAMP:20260423T213825Z
DESCRIPTION:The Food Pantry is open at 1:30 p.m. to pick up nutritious groc
 eries. We include enough for 3-5 days of meals for you and your family. Fo
 od is available to anyone who calls in that day before noon at 707-996-011
 1.
DTSTART;TZID=America/Los_Angeles:20241101T133000
DTEND;TZID=America/Los_Angeles:20241101T143000
LOCATION:18330 Highway 12\, Sonoma\, CA 95476 US
SUMMARY:Food Pantry at FISH
END:VEVENT
END:VCALENDAR
