BEGIN:VCALENDAR
VERSION:2.0
PRODID:-//fishsonoma.org//NONSGML kigkonsult.se iCalcreator 2.30.10//
CALSCALE:GREGORIAN
METHOD:PUBLISH
UID:30c4628a-f13e-4aa7-b6ce-01d676be2529
X-WR-CALDESC:The Food Pantry is open at 1:30 p.m. to pick up nutritious gro
 ceries. We include enough for 3-5 days of meals for you and your family. F
 ood is available to anyone who calls in that day before noon at 707-996-01
 11.
X-WR-RELCALID:285723ab31cc871bb148ad1c3dab67af
X-WR-TIMEZONE:America/Los_Angeles
BEGIN:VTIMEZONE
TZID:America/Los_Angeles
BEGIN:STANDARD
TZNAME:PST
DTSTART:20231105T020000
TZOFFSETFROM:-0700
TZOFFSETTO:-0800
RDATE:20241103T020000
RDATE:20251102T020000
END:STANDARD
BEGIN:DAYLIGHT
TZNAME:PDT
DTSTART:20240310T020000
TZOFFSETFROM:-0800
TZOFFSETTO:-0700
RDATE:20250309T020000
RDATE:20260308T020000
END:DAYLIGHT
END:VTIMEZONE
BEGIN:VEVENT
UID:7fbbbf84-3ed8-4e08-b169-e38c7c00843f
DTSTAMP:20260424T034407Z
DESCRIPTION:The Food Pantry is open at 1:30 p.m. to pick up nutritious groc
 eries. We include enough for 3-5 days of meals for you and your family. Fo
 od is available to anyone who calls in that day before noon at 707-996-011
 1.
DTSTART;TZID=America/Los_Angeles:20240917T133000
DTEND;TZID=America/Los_Angeles:20240917T143000
LOCATION:18330 Highway 12\, Sonoma\, CA 95476 US
SUMMARY:Food Pantry at FISH
END:VEVENT
END:VCALENDAR
