BEGIN:VCALENDAR
VERSION:2.0
PRODID:-//fishsonoma.org//NONSGML kigkonsult.se iCalcreator 2.30.10//
CALSCALE:GREGORIAN
METHOD:PUBLISH
UID:caf285f6-4c4a-4e52-ba42-1897c015e6b3
X-WR-CALDESC:Come shop at the Clothes Closet for clothing for all ages\, fr
 ee of charge. No appointment needed.\nDonations of clean\, gently worn clo
 thing are also accepted at this time.
X-WR-RELCALID:e277327ac6976fa55d2ab821b2616709
X-WR-TIMEZONE:America/Los_Angeles
BEGIN:VTIMEZONE
TZID:America/Los_Angeles
BEGIN:STANDARD
TZNAME:PST
DTSTART:20231105T020000
TZOFFSETFROM:-0700
TZOFFSETTO:-0800
RDATE:20241103T020000
RDATE:20251102T020000
END:STANDARD
BEGIN:DAYLIGHT
TZNAME:PDT
DTSTART:20240310T020000
TZOFFSETFROM:-0800
TZOFFSETTO:-0700
RDATE:20250309T020000
END:DAYLIGHT
END:VTIMEZONE
BEGIN:VEVENT
UID:61bd5296-bf0a-422e-8b79-19d8754a3277
DTSTAMP:20260424T101006Z
DESCRIPTION:Come shop at the Clothes Closet for clothing for all ages\, fre
 e of charge. No appointment needed.\nDonations of clean\, gently worn clot
 hing are also accepted at this time.
DTSTART;TZID=America/Los_Angeles:20240820T100000
DTEND;TZID=America/Los_Angeles:20240820T120000
LOCATION:18330 Highway 12\, Sonoma\, CA 95476 US
SUMMARY:FISH Clothing Closet Open
END:VEVENT
END:VCALENDAR
