BEGIN:VCALENDAR
VERSION:2.0
PRODID:-//fishsonoma.org//NONSGML kigkonsult.se iCalcreator 2.30.10//
CALSCALE:GREGORIAN
METHOD:PUBLISH
UID:7855596a-b586-4d0b-ae3e-ee285f72bf2a
X-WR-CALDESC:Come shop at the Clothes Closet for clothing for all ages\, fr
 ee of charge. No appointment needed.\n
X-WR-RELCALID:4ef1adbad437cba5b3bf8ea9142808ff
X-WR-TIMEZONE:America/Los_Angeles
BEGIN:VTIMEZONE
TZID:America/Los_Angeles
BEGIN:STANDARD
TZNAME:PST
DTSTART:20231105T020000
TZOFFSETFROM:-0700
TZOFFSETTO:-0800
RDATE:20241103T020000
RDATE:20251102T020000
END:STANDARD
BEGIN:DAYLIGHT
TZNAME:PDT
DTSTART:20240310T020000
TZOFFSETFROM:-0800
TZOFFSETTO:-0700
RDATE:20250309T020000
END:DAYLIGHT
END:VTIMEZONE
BEGIN:VEVENT
UID:e8724a8f-c890-46b8-b10d-433eb0ef3bcd
DTSTAMP:20260424T181026Z
DESCRIPTION:Come shop at the Clothes Closet for clothing for all ages\, fre
 e of charge. No appointment needed.\n
DTSTART;TZID=America/Los_Angeles:20240717T130000
DTEND;TZID=America/Los_Angeles:20240717T150000
LOCATION:18330 Highway 12\, Sonoma\, CA 95476 US
SUMMARY:FISH Clothing Closet Open
END:VEVENT
END:VCALENDAR
